BEGIN:VCALENDAR
VERSION:2.0
PRODID:-//Tukios.com/
BEGIN:VEVENT
UID:1f06458f-2562-4dd5-8d03-8b2a5ea27393@www.charleswsmithandsonsfuneralhome.com
DTSTAMP:20260422T234141Z
DTSTART:20260502T174500Z
DTEND:20260502T184500Z
SUMMARY:Burial
DESCRIPTION:
URL:https://www.charleswsmithandsonsfuneralhome.com/obituaries/teresa-cardenas
LOCATION: Intersection of North State Highway 78 & West FM 6  Lavon TX 
	75166
GEO:33.0434288;-96.4248187
END:VEVENT
END:VCALENDAR