BEGIN:VCALENDAR
VERSION:2.0
PRODID:-//Tukios.com/
BEGIN:VEVENT
UID:c604091d-2656-46f1-8b64-c97e8e83b749@www.charleswsmithandsonsfuneralhome.com
DTSTAMP:20260422T234632Z
DTSTART:20260502T170000Z
DTEND:20260502T174500Z
SUMMARY:Funeral Service
DESCRIPTION:
URL:https://www.charleswsmithandsonsfuneralhome.com/obituaries/teresa-cardenas
LOCATION: Intersection North State Highway 78 and West FM 6  Lavon TX 
	75166
GEO:33.0434288;-96.4248187
END:VEVENT
END:VCALENDAR