BEGIN:VCALENDAR
VERSION:2.0
PRODID:-//Tukios.com/
BEGIN:VEVENT
UID:69c9e07c-3f4a-4f47-a80a-f3065b6a5ecf@www.charleswsmithandsonsfuneralhome.com
DTSTAMP:20260422T234540Z
DTSTART:20260501T220000Z
DTEND:20260502T010000Z
SUMMARY:Visitation
DESCRIPTION:
URL:https://www.charleswsmithandsonsfuneralhome.com/obituaries/teresa-cardenas
LOCATION: Intersection North State Highway 78 and West FM 6  Lavon TX 
	75166
GEO:33.0434288;-96.4248187
END:VEVENT
END:VCALENDAR