BEGIN:VCALENDAR
VERSION:2.0
PRODID:-//Tukios.com/
BEGIN:VEVENT
UID:19f9e410-fbdb-41ea-9f68-054cb9028d94@www.charleswsmithandsonsfuneralhome.com
DTSTAMP:20260420T170836Z
DTSTART:20260514T160000Z
DTEND:20260514T170000Z
SUMMARY:Memorial Service
DESCRIPTION:
URL:https://www.charleswsmithandsonsfuneralhome.com/obituaries/susan-francis
LOCATION: 601 S Tennessee St  McKinney TX 75069
GEO:33.1917041;-96.6150956
END:VEVENT
END:VCALENDAR