BEGIN:VCALENDAR
VERSION:2.0
PRODID:-//Tukios.com/
BEGIN:VEVENT
UID:3efe8fa5-d292-4008-91cd-68bb1686fa4e@www.charleswsmithandsonsfuneralhome.com
DTSTAMP:20260420T171017Z
DTSTART:20260514T150000Z
DTEND:20260514T160000Z
SUMMARY:Visitation
DESCRIPTION:
URL:https://www.charleswsmithandsonsfuneralhome.com/obituaries/susan-francis
LOCATION: 601 S Tennessee St  McKinney TX 75069
GEO:33.1917041;-96.6150956
END:VEVENT
END:VCALENDAR