BEGIN:VCALENDAR
VERSION:2.0
PRODID:-//Tukios.com/
BEGIN:VEVENT
UID:7c19e490-46f2-4770-9c6d-1c62f0bf8120@www.charleswsmithandsonsfuneralhome.com
DTSTAMP:20260422T182231Z
DTSTART:20260424T180000Z
DTEND:20260424T200000Z
SUMMARY:Memorial Gathering
DESCRIPTION:
URL:https://www.charleswsmithandsonsfuneralhome.com/obituaries/shirley-stevenson
LOCATION: 601 S Tennessee St  McKinney TX 75069
GEO:33.1917041;-96.6150956
END:VEVENT
END:VCALENDAR