BEGIN:VCALENDAR
VERSION:2.0
PRODID:-//Tukios.com/
BEGIN:VEVENT
UID:922a3344-762b-43c4-abea-1471b848bef4@www.charleswsmithandsonsfuneralhome.com
DTSTAMP:20260422T231440Z
DTSTART:20260507
SUMMARY:Burial
DESCRIPTION:Private
URL:https://www.charleswsmithandsonsfuneralhome.com/obituaries/ronald-hillier
LOCATION: 2000 Mountain Creek Pkwy  Dallas TX 75211
GEO:32.7156123;-96.9421747
END:VEVENT
END:VCALENDAR