BEGIN:VCALENDAR
VERSION:2.0
PRODID:-//Tukios.com/
BEGIN:VEVENT
UID:fb99ff74-4179-4127-9e50-517019c13799@www.charleswsmithandsonsfuneralhome.com
DTSTAMP:20260422T231227Z
DTSTART:20260507T190000Z
DTEND:20260507T200000Z
SUMMARY:Celebration of Life
DESCRIPTION:
URL:https://www.charleswsmithandsonsfuneralhome.com/obituaries/ronald-hillier
LOCATION: 1001 S Central Expy  Richardson TX 75081
GEO:32.9626766;-96.7264704
END:VEVENT
END:VCALENDAR