BEGIN:VCALENDAR
VERSION:2.0
PRODID:-//Tukios.com/
BEGIN:VEVENT
UID:b4beb510-c44a-4713-8ab6-ec1d70e811d9@www.charleswsmithandsonsfuneralhome.com
DTSTAMP:20260421T001819Z
DTSTART:20260428T143000Z
DTEND:20260428T153000Z
SUMMARY:Graveside Service
DESCRIPTION:
URL:https://www.charleswsmithandsonsfuneralhome.com/obituaries/richard-pennington
LOCATION: 2000 Mountain Creek Pkwy  Dallas TX 75211
GEO:32.7156123;-96.9421747
END:VEVENT
END:VCALENDAR