BEGIN:VCALENDAR
VERSION:2.0
PRODID:-//Tukios.com/
BEGIN:VEVENT
UID:dd87d23f-2db6-42df-9bd9-32ef27fe6dc4@www.charleswsmithandsonsfuneralhome.com
DTSTAMP:20260421T001402Z
DTSTART:20260427T220000Z
DTEND:20260428T000000Z
SUMMARY:Viewing
DESCRIPTION:
URL:https://www.charleswsmithandsonsfuneralhome.com/obituaries/richard-pennington
LOCATION: 2925 5th St  Sachse TX 75048
GEO:32.9778692;-96.5950644
END:VEVENT
END:VCALENDAR