BEGIN:VCALENDAR
VERSION:2.0
PRODID:-//Tukios.com/
BEGIN:VEVENT
UID:d5d14424-7fea-4205-a019-7b6f402c0c76@www.charleswsmithandsonsfuneralhome.com
DTSTAMP:20260423T222828Z
DTSTART:20260425T160000Z
DTEND:20260425T170000Z
SUMMARY:Funeral Service
DESCRIPTION:Interment to Follow at Altoga Cemetery.
URL:https://www.charleswsmithandsonsfuneralhome.com/obituaries/nannette-dunn
LOCATION: 601 S Tennessee St  McKinney TX 75069
GEO:33.1917041;-96.6150956
END:VEVENT
END:VCALENDAR