BEGIN:VCALENDAR
VERSION:2.0
PRODID:-//Tukios.com/
BEGIN:VEVENT
UID:c2c91068-0514-49a3-ba4b-b354241aa6af@www.charleswsmithandsonsfuneralhome.com
DTSTAMP:20260423T185714Z
DTSTART:20260424T170000Z
DTEND:20260424T180000Z
SUMMARY:Funeral Service
DESCRIPTION:
URL:https://www.charleswsmithandsonsfuneralhome.com/obituaries/mickey-barton
LOCATION:Church of Jesus Christ of Latter Day Saints 1404 E. Main Street  
	Allen TX 75002
GEO:33.099776;-96.6355165
END:VEVENT
END:VCALENDAR