BEGIN:VCALENDAR
VERSION:2.0
PRODID:-//Tukios.com/
BEGIN:VEVENT
UID:5fa23309-3972-4ad8-bc32-33cccccf7876@www.charleswsmithandsonsfuneralhome.com
DTSTAMP:20260423T190241Z
DTSTART:20260423T230000Z
DTEND:20260424T010000Z
SUMMARY:Visitation
DESCRIPTION:
URL:https://www.charleswsmithandsonsfuneralhome.com/obituaries/mickey-barton
LOCATION: 2925 5th St  Sachse TX 75048
GEO:32.9778692;-96.5950644
END:VEVENT
END:VCALENDAR