BEGIN:VCALENDAR
VERSION:2.0
PRODID:-//Tukios.com/
BEGIN:VEVENT
UID:9a090c3d-31dc-4236-9593-b6325340c618@www.charleswsmithandsonsfuneralhome.com
DTSTAMP:20260424T224404Z
DTSTART:20260509T160000Z
DTEND:20260509T170000Z
SUMMARY:Memorial Service
DESCRIPTION:
URL:https://www.charleswsmithandsonsfuneralhome.com/obituaries/john-jessup
LOCATION: 801 W Avenue D  Garland TX 75040
GEO:32.9095854;-96.6409417
END:VEVENT
END:VCALENDAR