BEGIN:VCALENDAR
VERSION:2.0
PRODID:-//Tukios.com/
BEGIN:VEVENT
UID:da5a47bc-6c36-4821-8416-c58181c8b2ab@www.charleswsmithandsonsfuneralhome.com
DTSTAMP:20260420T210517Z
DTSTART:20260425T150000Z
DTEND:20260425T160000Z
SUMMARY:Memorial Service
DESCRIPTION:
URL:https://www.charleswsmithandsonsfuneralhome.com/obituaries/earnest-tipping
LOCATION: Intersection North State Highway 78 and West FM 6  Lavon TX 
	75166
GEO:33.0434288;-96.4248187
END:VEVENT
END:VCALENDAR