BEGIN:VCALENDAR
VERSION:2.0
PRODID:-//Tukios.com/
BEGIN:VEVENT
UID:0aa58148-b378-47ad-845a-da9c5d9491f9@www.charleswsmithandsonsfuneralhome.com
DTSTAMP:20260420T191706Z
DTSTART:20260423T170000Z
DTEND:20260423T180000Z
SUMMARY:Funeral Service
DESCRIPTION:
URL:https://www.charleswsmithandsonsfuneralhome.com/obituaries/david-hoser
LOCATION: Intersection North State Highway 78 and West FM 6  Lavon TX 
	75166
GEO:33.0434288;-96.4248187
END:VEVENT
END:VCALENDAR