BEGIN:VCALENDAR
VERSION:2.0
PRODID:-//Tukios.com/
BEGIN:VEVENT
UID:bc27470c-2bca-4bec-9f75-b9218c820d87@www.charleswsmithandsonsfuneralhome.com
DTSTAMP:20260420T191839Z
DTSTART:20260422T220000Z
DTEND:20260423T000000Z
SUMMARY:Visitation
DESCRIPTION:
URL:https://www.charleswsmithandsonsfuneralhome.com/obituaries/david-hoser
LOCATION: Intersection North State Highway 78 and West FM 6  Lavon TX 
	75166
GEO:33.0434288;-96.4248187
END:VEVENT
END:VCALENDAR